BEGIN:VCALENDAR
VERSION:2.0
PRODID:-//ChamberMaster//Event Calendar 2.0//EN
METHOD:PUBLISH
X-PUBLISHED-TTL:P3D
REFRESH-INTERVAL:P3D
CALSCALE:GREGORIAN
BEGIN:VEVENT
DTSTART:20210611T230000Z
DTEND:20210612T010000Z
X-MICROSOFT-CDO-ALLDAYEVENT:FALSE
SUMMARY:Songs & Sundaes with Chestnut Ridge at The Woodward Opera House
DESCRIPTION:The Chestnut Ridge bluegrass gospel band will perform at The Woodward Opera House on Friday June 11\, 2021\, as we present: "Songs & Sundaes."\n\nDoors Open: 6:30 p.m. | Show: 7 p.m.\n\nTICKETS: $10\n\nIncluded in your ticket purchase is admission to the show and a trip to the Ice Cream Sundae Bar provided by Round Hill Dairy.\n\nChestnut Ridge is a Bluegrass/Gospel group out of the Knox County/central Ohio area. They have been playing for well over 16 years and have a strong following young and old. Their dedication to serving Jesus Christ is their drive. While they primarily play gospel\, they also like to add some traditional bluegrass tunes. The group has been seen all over Ohio and surrounding states playing in churches\, festivals\, and community and private events. They have produced numerous CDs and you can find them in many videos on youtube. Their passion and professionalism can be seen as soon as they take the stage.\n\nMembers are Jeanell Branstool on mandolin and vocals\, Jim Dunfee on guitar and vocals\, Mickey Holback on banjo and vocals\, and Duane Hardesty on bass.
X-ALT-DESC;FMTTYPE=text/html:<div class="kvgmc6g5 cxmmr5t8 oygrvhab hcukyx3x c1et5uql" style="overflow-wrap: break-word\; margin: 0px\; font-family: &quot\;Segoe UI Historic&quot\;\, &quot\;Segoe UI&quot\;\, Helvetica\, Arial\, sans-serif\; color: rgb(5\, 5\, 5)\; font-size: 15px\;">The Chestnut Ridge bluegrass gospel band will perform at The Woodward Opera House on Friday June 11\, 2021\, as we present: &quot\;Songs &amp\; Sundaes.&quot\;</div>\n\n<div class="o9v6fnle cxmmr5t8 oygrvhab hcukyx3x c1et5uql" style="overflow-wrap: break-word\; margin: 0.5em 0px 0px\; font-family: &quot\;Segoe UI Historic&quot\;\, &quot\;Segoe UI&quot\;\, Helvetica\, Arial\, sans-serif\; color: rgb(5\, 5\, 5)\; font-size: 15px\;">Doors Open: 6:30 p.m. | Show: 7 p.m.</div>\n\n<div class="o9v6fnle cxmmr5t8 oygrvhab hcukyx3x c1et5uql" style="overflow-wrap: break-word\; margin: 0.5em 0px 0px\; font-family: &quot\;Segoe UI Historic&quot\;\, &quot\;Segoe UI&quot\;\, Helvetica\, Arial\, sans-serif\; color: rgb(5\, 5\, 5)\; font-size: 15px\;">TICKETS: $10<br />\nIncluded in your ticket purchase is admission to the show and a trip to the Ice Cream Sundae Bar provided by Round Hill Dairy.</div>\n\n<div class="o9v6fnle cxmmr5t8 oygrvhab hcukyx3x c1et5uql" style="overflow-wrap: break-word\; margin: 0.5em 0px 0px\; font-family: &quot\;Segoe UI Historic&quot\;\, &quot\;Segoe UI&quot\;\, Helvetica\, Arial\, sans-serif\; color: rgb(5\, 5\, 5)\; font-size: 15px\;">Chestnut Ridge is a Bluegrass/Gospel group out of the Knox County/central Ohio area. They have been playing for well over 16 years and have a strong following young and old. Their dedication to serving Jesus Christ is their drive. While they primarily play gospel\, they also like to add some traditional bluegrass tunes. The group has been seen all over Ohio and surrounding states playing in churches\, festivals\, and community and private events. They have produced numerous CDs and you can find them in many videos on youtube. Their passion and professionalism can be seen as soon as they take the stage.</div>\n\n<div class="o9v6fnle cxmmr5t8 oygrvhab hcukyx3x c1et5uql" style="overflow-wrap: break-word\; margin: 0.5em 0px 0px\; font-family: &quot\;Segoe UI Historic&quot\;\, &quot\;Segoe UI&quot\;\, Helvetica\, Arial\, sans-serif\; color: rgb(5\, 5\, 5)\; font-size: 15px\;">Members are Jeanell Branstool on mandolin and vocals\, Jim Dunfee on guitar and vocals\, Mickey Holback on banjo and vocals\, and Duane Hardesty on bass.</div>\n
LOCATION:The Woodward Opera House\, 107 South Main Street\, Mount Vernon
UID:e.2893.4894
SEQUENCE:3
DTSTAMP:20260419T194614Z
URL:http://knoxchamber.smartcms.site/events/details/songs-sundaes-with-chestnut-ridge-at-the-woodward-opera-house-4894
END:VEVENT

END:VCALENDAR
