BEGIN:VCALENDAR
VERSION:2.0
PRODID:-//ChamberMaster//Event Calendar 2.0//EN
METHOD:PUBLISH
X-PUBLISHED-TTL:P3D
REFRESH-INTERVAL:P3D
CALSCALE:GREGORIAN
BEGIN:VEVENT
DTSTART;VALUE=DATE:20190921
DTEND;VALUE=DATE:20190922
TRANSP:TRANSPARENT
X-MICROSOFT-CDO-ALLDAYEVENT:TRUE
SUMMARY:SonFest
DESCRIPTION:Enjoy some of the best Christian music on two stages\, a BMX Bike Show\, food trucks\, inflatable games\, gaga ball\, sand volleyball\, and more in a great atmosphere. Gates will open at noon on the campus of Mount Vernon Nazarene University.\n\n\nPASSiON\n\n\n\n\n\nHollyn   Red Jumpsuit Apparatus   Tedashii\n\nSocial Club Misfits... And More!
X-ALT-DESC;FMTTYPE=text/html:<span style="font-size:14px\;"><span style="font-family:arial\;"><span style="text-align: center\; color: rgb(15\, 16\, 37)\; text-transform: none\; text-indent: 0px\; letter-spacing: normal\; font-style: normal\; font-variant: normal\; font-weight: 400\; text-decoration: none\; word-spacing: 0px\; display: inline !important\; white-space: normal\; orphans: 2\; float: none\; -webkit-text-stroke-width: 0px\; background-color: rgb(255\, 255\, 255)\;">Enjoy some of the best Christian music on two stages\, a BMX Bike Show\, food trucks\, inflatable games\, gaga ball\, sand volleyball\, and more in a great atmosphere. Gates will open at noon on the campus of Mount Vernon Nazarene University.</span></span></span>\n<div class="row" style="box-sizing: border-box\; color: rgb(255\, 255\, 255)\; font-family: Montserrat\,&amp\;quot\;Helvetica Neue&amp\;quot\;\,Helvetica\,Arial\,sans-serif\; font-size: 22px\; font-style: normal\; font-variant: normal\; font-weight: 400\; letter-spacing: normal\; margin-left: -15px\; margin-right: -15px\; orphans: 2\; text-align: center\; text-decoration: none\; text-indent: 0px\; text-transform: none\; -webkit-text-stroke-width: 0px\; white-space: normal\; word-spacing: 0px\;">\n<div class="col-xs-12 text-dark-blue text-uppercase" style="box-sizing: border-box\; color: rgb(0\, 75\, 133)\; float: left\; min-height: 1px\; padding-left: 15px\; padding-right: 15px\; position: relative\; text-transform: uppercase\; width: 100%\;">\n<h3 style="box-sizing: border-box\; color: inherit\; font-family: inherit\; font-size: 38px\; font-weight: 700\; line-height: 1.1\; margin-bottom: 15.5px\; margin-top: 31px\;">PASSiON</h3>\n</div>\n</div>\n\n<div class="row" style="box-sizing: border-box\; color: rgb(255\, 255\, 255)\; font-family: Montserrat\,&amp\;quot\;Helvetica Neue&amp\;quot\;\,Helvetica\,Arial\,sans-serif\; font-size: 22px\; font-style: normal\; font-variant: normal\; font-weight: 400\; letter-spacing: normal\; margin-left: -15px\; margin-right: -15px\; orphans: 2\; text-align: center\; text-decoration: none\; text-indent: 0px\; text-transform: none\; -webkit-text-stroke-width: 0px\; white-space: normal\; word-spacing: 0px\;">\n<div class="col-md-offset-2 col-md-8 text-dark-purple text-uppercase" style="box-sizing: border-box\; color: rgb(15\, 16\, 37)\; float: left\; margin-left: 16.66%\; min-height: 1px\; padding-left: 15px\; padding-right: 15px\; position: relative\; text-transform: uppercase\; width: 66.66%\;">\n<h4 style="box-sizing: border-box\; color: inherit\; font-family: inherit\; font-size: 28px\; font-weight: 700\; line-height: 1.1\; margin-bottom: 15.5px\; margin-top: 15.5px\;">Hollyn <span class="text-light-blue bull" style="box-sizing: border-box\; color: rgb(50\, 186\, 160)\;">&bull\;</span> Red Jumpsuit Apparatus <span class="text-light-blue bull" style="box-sizing: border-box\; color: rgb(50\, 186\, 160)\;">&bull\;</span> Tedashii</h4>\n\n<h4 style="box-sizing: border-box\; color: inherit\; font-family: inherit\; font-size: 28px\; font-weight: 700\; line-height: 1.1\; margin-bottom: 15.5px\; margin-top: 15.5px\;">Social Club Misfits... And More!</h4>\n</div>\n</div>\n
LOCATION:Mount Vernon Nazarene University\, 800 Martinsburg Road
UID:e.2893.4432
SEQUENCE:3
DTSTAMP:20260421T053313Z
URL:http://knoxchamber.smartcms.site/events/details/sonfest-4432
END:VEVENT

END:VCALENDAR
