BEGIN:VCALENDAR
VERSION:2.0
PRODID:-//ChamberMaster//Event Calendar 2.0//EN
METHOD:PUBLISH
X-PUBLISHED-TTL:P3D
REFRESH-INTERVAL:P3D
CALSCALE:GREGORIAN
BEGIN:VEVENT
DTSTART:20181221T123000Z
DTEND:20181221T143000Z
X-MICROSOFT-CDO-ALLDAYEVENT:FALSE
SUMMARY:Solstice Stroll
DESCRIPTION:Meet at the Kokosing Gap Trail gravel lot on Laymon Road. Celebrate sunrise on the shortest day of the year. BFEC Manager\, Noelle Jordan\, will spend a few minutes talking about our labyrinth\, and then you can enjoy some solitude and moving meditation at your own pace. The total walk in and out of the labyrinth is approximately 1 mile\; plan for about 90 minutes.
X-ALT-DESC;FMTTYPE=text/html:Meet at the <span style="color:#800000\;"><em>Kokosing Gap Trail gravel lot</em></span> on Laymon Road. Celebrate sunrise on the shortest day of the year. BFEC Manager\, Noelle Jordan\, will spend a few minutes talking about our labyrinth\, and then you can enjoy some solitude and moving meditation at your own pace. The total walk in and out of the labyrinth is approximately 1 mile\; plan for about 90 minutes.
LOCATION:9781 Laymon Road Gambier
UID:e.2893.3810
SEQUENCE:3
DTSTAMP:20260421T213333Z
URL:http://knoxchamber.smartcms.site/events/details/solstice-stroll-3810
END:VEVENT

END:VCALENDAR
