BEGIN:VCALENDAR
VERSION:2.0
PRODID:-//ChamberMaster//Event Calendar 2.0//EN
METHOD:PUBLISH
X-PUBLISHED-TTL:P3D
REFRESH-INTERVAL:P3D
CALSCALE:GREGORIAN
BEGIN:VEVENT
DTSTART:20180621T233000Z
DTEND:20180622T000000Z
X-MICROSOFT-CDO-ALLDAYEVENT:FALSE
SUMMARY:Solstice Labyrinth Stroll
DESCRIPTION:Meet at the Kokosing Gap Trail parking lot on Laymon Road. Celebrate the longest day of the year with an evening stroll into the BFEC labyrinth. Labyrinths have only one path that leads to the center and back out again. Because you don't need to figure out where your body should go\, you can spend time in the labyrinth trying to solve a problem\, considering your thoughts and feelings\, pondering the meaning of life\, or just simply relishing the last rays of sunshine on the longest day of the year.
X-ALT-DESC;FMTTYPE=text/html:Meet at the Kokosing Gap Trail parking lot on Laymon Road. Celebrate the longest day of the year with an evening stroll into the BFEC labyrinth. Labyrinths have only one path that leads to the center and back out again. Because you don&rsquo\;t need to figure out where your body should go\, you can spend time in the labyrinth trying to solve a problem\, considering your thoughts and feelings\, pondering the meaning of life\, or just simply relishing the last rays of sunshine on the longest day of the year.
LOCATION:Brown Family Environmental Center
UID:e.2893.2628
SEQUENCE:3
DTSTAMP:20260422T074104Z
URL:http://knoxchamber.smartcms.site/events/details/solstice-labyrinth-stroll-2628
END:VEVENT

END:VCALENDAR
