BEGIN:VCALENDAR
VERSION:2.0
PRODID:-//ChamberMaster//Event Calendar 2.0//EN
METHOD:PUBLISH
X-PUBLISHED-TTL:P3D
REFRESH-INTERVAL:P3D
CALSCALE:GREGORIAN
BEGIN:VEVENT
DTSTART:20181005T140000Z
DTEND:20181005T180000Z
X-MICROSOFT-CDO-ALLDAYEVENT:FALSE
SUMMARY:Solar Open House at Burch Hydro Inc
DESCRIPTION:Join us for an educational Solar Open House at Burch Hydro Inc. in Fredericktown\, Ohio. Drop-in on Friday\, October 5th from 10 am   2 pm to see a 238 panel ground mount solar system. You will also learn: - How solar energy could impact your bottom line and provide sustainability - All about the tax benefits\, grants\, and financing options This is a free event\, but RSVP is requested. A light lunch will be available. See you there!
X-ALT-DESC;FMTTYPE=text/html:Join us for an educational Solar Open House at Burch Hydro Inc. in Fredericktown\, Ohio. Drop-in on Friday\, October 5th from 10 am &ndash\; 2 pm to see a 238 panel ground mount solar system. You will also learn: - How solar energy could impact your bottom line and provide sustainability - All about the tax benefits\, grants\, and financing options This is a free event\, but RSVP is requested. A light lunch will be available. See you there!
LOCATION:Burch Hydro Inc 17860 Ankneytown Road Fredericktown\, Ohio 43019
UID:e.2893.3811
SEQUENCE:3
DTSTAMP:20260422T010748Z
URL:http://knoxchamber.smartcms.site/events/details/solar-open-house-at-burch-hydro-inc-3811
END:VEVENT

END:VCALENDAR
