BEGIN:VCALENDAR
VERSION:2.0
PRODID:-//ChamberMaster//Event Calendar 2.0//EN
METHOD:PUBLISH
X-PUBLISHED-TTL:P3D
REFRESH-INTERVAL:P3D
CALSCALE:GREGORIAN
BEGIN:VEVENT
DTSTART:20191218T150000Z
DTEND:20191218T190000Z
X-MICROSOFT-CDO-ALLDAYEVENT:FALSE
SUMMARY:Social Services Job Fair
DESCRIPTION:Riverside Recovery Services - Knox County will sponsor the Knox County Social Service Job Fair on December 18 from 10am-2pm. The Fair will take place at 402 Coshocton Avenue in Mount Vernon and several Social Service Agencies will be present seeking to fill positions. Those looking to learn about the requirements and qualifications should bring several resumes and be prepared for an onsite interview.
X-ALT-DESC;FMTTYPE=text/html:<div class="_5pbx userContent _3576" data-ft="{&quot\;tn&quot\;:&quot\;K&quot\;}" data-testid="post_message" id="js_5ou" style="font-size: 14px\; line-height: 1.38\; margin-top: 6px\; font-family: Helvetica\, Arial\, sans-serif\; color: rgb(28\, 30\, 33)\; background-color: rgb(255\, 255\, 255)\;">\n<p style="margin: 0px\; display: inline\; font-family: inherit\;"><a class="profileLink" data-hovercard="/ajax/hovercard/page.php?id=145500339397659&amp\;extragetparams=%7B%22__tn__%22%3A%22%2CdK-R-R%22%2C%22eid%22%3A%22ARD4am-5wwvf4yRKNsKiOHvJDZlFhsohruFBdSbZ0hhJ-BX0UehvPe1bYYGiYr3qM9Pk1niIxzxjtgUS%22%2C%22fref%22%3A%22mentions%22%7D&amp\;av=272011821628&amp\;eav=AfbcmbAhkgkTY-PnUZLUszuehhQqoYW7ZOuKXEiRNYa3hdcnlU_1anQFXAWBSGn3IZs" data-hovercard-prefer-more-content-show="1" href="https://www.facebook.com/livingsobertoday/?__tn__=K-R&amp\;eid=ARD4am-5wwvf4yRKNsKiOHvJDZlFhsohruFBdSbZ0hhJ-BX0UehvPe1bYYGiYr3qM9Pk1niIxzxjtgUS&amp\;fref=mentions&amp\;__xts__%5B0%5D=68.ARCZOC0OJ2xgqP1s-CoxgAzymh5FJqZ2yXaAPSf7teDkrW4S1BQcAwtKrNpFJUJHhnrd-X0w5b4uCSrzIBQYHrCEACGTYXzHrlFrX9vaLRL95OMSb-WpnBl2nOeMJJ9nkhuFL2y3mh6kUW0bkQIWq2JGPr82PlRPYNbIwNUUWCVAA55KMh7DcyvYrHvty7qGxLmP-6VwfogND29gnJbTviRazArvllow_JP32pN_CmFDOiNmaxFwTUtop2MNfyjbEDg3SG3DQAz7tdWcU23zuMMZmU55epfhXc5Krwg6ZjN04gFxbB6SgvqNQTXtVwFs8p-0UQcXrdjzs1wNhQSH" style="color: rgb(56\, 88\, 152)\; cursor: pointer\; text-decoration-line: none\; font-family: inherit\;">Riverside Recovery Services - Knox County</a>&nbsp\;will sponsor the Knox County Social Service Job Fair on December 18 from 10am-2pm. The Fair will take place at 402 Coshocton Avenue in Mount Vernon and several Social Service Agencies will be present seeking to fill positions. Those looking to learn about the requirements and qualifications should bring several resumes and be prepared for an onsite interview.</p>\n</div>\n\n<div>\n<p style="margin: 0px\; display: inline\; font-family: inherit\;">&nbsp\;</p>\n</div>\n\n<div class="_3x-2" data-ft="{&quot\;tn&quot\;:&quot\;H&quot\;}" style="font-family: Helvetica\, Arial\, sans-serif\; color: rgb(28\, 30\, 33)\; font-size: 12px\; background-color: rgb(255\, 255\, 255)\;">\n<div data-ft="{&quot\;tn&quot\;:&quot\;H&quot\;}" style="font-family: inherit\;">\n<div class="mtm" style="margin-top: 10px\; font-family: inherit\;">\n<div style="font-family: inherit\; position: relative\;">\n<div class="_1ktf" data-ft="{&quot\;tn&quot\;:&quot\;E&quot\;}" style="margin-left: -12px\; font-family: inherit\;">&nbsp\;</div>\n</div>\n</div>\n</div>\n</div>\n
LOCATION:402 Coshocton Avenue
UID:e.2893.4684
SEQUENCE:3
DTSTAMP:20260421T010143Z
URL:http://knoxchamber.smartcms.site/events/details/social-services-job-fair-4684
END:VEVENT

END:VCALENDAR
