BEGIN:VCALENDAR
VERSION:2.0
PRODID:-//ChamberMaster//Event Calendar 2.0//EN
METHOD:PUBLISH
X-PUBLISHED-TTL:P3D
REFRESH-INTERVAL:P3D
CALSCALE:GREGORIAN
BEGIN:VEVENT
DTSTART:20170730T150000Z
DTEND:20170730T170000Z
X-MICROSOFT-CDO-ALLDAYEVENT:FALSE
SUMMARY:Snorkeling in the Kokosing River
DESCRIPTION:Meet at the River Access parking lot at the corner of Laymon and 229. Registration Required. For adults and families with children age 8 and older. Experience the Kokosing in a whole new way! We will provide masks and snorkels. You may want to wear water shoes and bring your own life jacket. Bring a sack lunch for a picnic afterwards. Space is limited. Call now to register! 740-427-5052
X-ALT-DESC;FMTTYPE=text/html:Meet at the River Access parking lot at the corner of Laymon and 229. Registration Required. For adults and families with children age 8 and older. Experience the Kokosing in a whole new way! We will provide masks and snorkels. You may want to wear water shoes and bring your own life jacket. Bring a sack lunch for a picnic afterwards. Space is limited. Call now to register! 740-427-5052
LOCATION:Gap Trail River Access Parking Lot
UID:e.2893.1419
SEQUENCE:3
DTSTAMP:20260423T044356Z
URL:http://knoxchamber.smartcms.site/events/details/snorkeling-in-the-kokosing-river-1419
END:VEVENT

END:VCALENDAR
