BEGIN:VCALENDAR
VERSION:2.0
PRODID:-//ChamberMaster//Event Calendar 2.0//EN
METHOD:PUBLISH
X-PUBLISHED-TTL:P3D
REFRESH-INTERVAL:P3D
CALSCALE:GREGORIAN
BEGIN:VEVENT
DTSTART;VALUE=DATE:20181124
DTEND;VALUE=DATE:20181125
TRANSP:TRANSPARENT
X-MICROSOFT-CDO-ALLDAYEVENT:TRUE
SUMMARY:Small Business Saturday
DESCRIPTION:SAVE THE DATE\n\nSmall Business Saturday\n\nSHOP SMALL\, SHOP LOCAL\n\n\n\nFor more information\, visit ShopSmall.com/Rally
X-ALT-DESC;FMTTYPE=text/html:SAVE THE DATE<br />\nSmall Business Saturday<br />\nSHOP SMALL\, SHOP LOCAL<br />\n<br />\nFor more information\, visit ShopSmall.com/Rally&nbsp\;
LOCATION:
UID:e.2893.2617
SEQUENCE:3
DTSTAMP:20260422T005807Z
URL:http://knoxchamber.smartcms.site/events/details/small-business-saturday-2617
END:VEVENT

END:VCALENDAR
