BEGIN:VCALENDAR
VERSION:2.0
PRODID:-//ChamberMaster//Event Calendar 2.0//EN
METHOD:PUBLISH
X-PUBLISHED-TTL:P3D
REFRESH-INTERVAL:P3D
CALSCALE:GREGORIAN
BEGIN:VEVENT
DTSTART:20190910T130000Z
DTEND:20190912T220000Z
X-MICROSOFT-CDO-ALLDAYEVENT:FALSE
SUMMARY:Silent Auction for the Walk to End ALZ
DESCRIPTION:In honor of Nation Assisted Living week and the Walk to End Alzheimer's. We will be hosting a silent auction to raise money for the walk to end Alzheimer's that will be on September 14th. The bidding will begin on Tuesday September 10th and it will end with a Happy Hour on September 12th from 430-6 PM. Gift baskets\, items or gift cards can be dropped off by Sept 6th. We will have resident made arts and crafts as well a donations from the community please come by and participate meet our residents and see our community.
X-ALT-DESC;FMTTYPE=text/html:In honor of Nation Assisted Living week and the Walk to End Alzheimer&#39\;s. We will be hosting a silent auction to raise money for the walk to end Alzheimer&#39\;s that will be on September 14th. The bidding will begin on Tuesday September 10th and it will end with a Happy Hour on September 12th from 430-6 PM. Gift baskets\, items or gift cards can be dropped off by Sept 6th. We will have resident made arts and crafts as well a donations from the community please come by and participate meet our residents and see our community.
LOCATION:1615 Yauger Road Mount Vernon\, Ohio 43050
UID:e.2893.4437
SEQUENCE:3
DTSTAMP:20260421T053643Z
URL:http://knoxchamber.smartcms.site/events/details/silent-auction-for-the-walk-to-end-alz-4437
END:VEVENT

END:VCALENDAR
