BEGIN:VCALENDAR
VERSION:2.0
PRODID:-//ChamberMaster//Event Calendar 2.0//EN
METHOD:PUBLISH
X-PUBLISHED-TTL:P3D
REFRESH-INTERVAL:P3D
CALSCALE:GREGORIAN
BEGIN:VEVENT
DTSTART;VALUE=DATE:20191130
DTEND;VALUE=DATE:20191201
TRANSP:TRANSPARENT
X-MICROSOFT-CDO-ALLDAYEVENT:TRUE
SUMMARY:Shop Small Saturday
DESCRIPTION:The Knox County Chamber of Commerce is gearing up for Shop Small Saturday! This year November 30 is the big day. We encourage everyone to get out and support local business by deciding to Shop Small! We live in such a giving county that always has the shop local mindset\, and we hope that continues!\n\n\n\n \n\n\n\nThank you to our small business owners for making Knox County your home!
X-ALT-DESC;FMTTYPE=text/html:<div data-block="true" data-editor="19jtf" data-offset-key="cq7oq-0-0" style="font-family: Helvetica\, Arial\, sans-serif\; color: rgb(28\, 30\, 33)\; font-size: 12px\; white-space: pre-wrap\; background-color: rgb(255\, 255\, 255)\;">\n<div class="_1mf _1mj" data-offset-key="cq7oq-0-0" style="position: relative\; direction: ltr\; font-family: inherit\;"><span style="font-size:18px\;"><span data-offset-key="cq7oq-0-0" style="font-family: inherit\;">The Knox County Chamber of Commerce is gearing up for Shop Small Saturday! This year November 30 is the big day. We encourage everyone to get out and support local business by deciding to Shop Small! We live in such a giving county that always has the shop local mindset\, and we hope that continues!</span></span></div>\n</div>\n\n<div data-block="true" data-editor="19jtf" data-offset-key="7mqek-0-0" style="font-family: Helvetica\, Arial\, sans-serif\; color: rgb(28\, 30\, 33)\; font-size: 12px\; white-space: pre-wrap\; background-color: rgb(255\, 255\, 255)\;">\n<div class="_1mf _1mj" data-offset-key="7mqek-0-0" style="position: relative\; direction: ltr\; font-family: inherit\;">&nbsp\;</div>\n</div>\n\n<div data-block="true" data-editor="19jtf" data-offset-key="4d7o2-0-0" style="font-family: Helvetica\, Arial\, sans-serif\; color: rgb(28\, 30\, 33)\; font-size: 12px\; white-space: pre-wrap\; background-color: rgb(255\, 255\, 255)\;">\n<div class="_1mf _1mj" data-offset-key="4d7o2-0-0" style="position: relative\; direction: ltr\; font-family: inherit\;"><span style="font-size:18px\;"><span data-offset-key="4d7o2-0-0" style="font-family: inherit\;">Thank you to our small business owners for making Knox County your home!</span></span></div>\n</div>\n
LOCATION:
UID:e.2893.4676
SEQUENCE:3
DTSTAMP:20260421T035107Z
URL:http://knoxchamber.smartcms.site/events/details/shop-small-saturday-4676
END:VEVENT

END:VCALENDAR
