BEGIN:VCALENDAR
VERSION:2.0
PRODID:-//ChamberMaster//Event Calendar 2.0//EN
METHOD:PUBLISH
X-PUBLISHED-TTL:P3D
REFRESH-INTERVAL:P3D
CALSCALE:GREGORIAN
BEGIN:VEVENT
DTSTART;VALUE=DATE:20180512
DTEND;VALUE=DATE:20180514
TRANSP:TRANSPARENT
X-MICROSOFT-CDO-ALLDAYEVENT:TRUE
SUMMARY:Shoe Carnival Sale
DESCRIPTION:Mother's Day\n\n2 Days only Sale\n\nGiveaways Noon- 2 pm Saturday  May 12th
X-ALT-DESC;FMTTYPE=text/html:Mother&#39\;s Day<br />\n2 Days only Sale<br />\nGiveaways Noon- 2 pm&nbsp\;Saturday&nbsp\; May 12th
LOCATION:Mount Vernon Plaza
UID:e.2893.3647
SEQUENCE:3
DTSTAMP:20260422T092622Z
URL:http://knoxchamber.smartcms.site/events/details/shoe-carnival-sale-3647
END:VEVENT

END:VCALENDAR
