BEGIN:VCALENDAR
VERSION:2.0
PRODID:-//ChamberMaster//Event Calendar 2.0//EN
METHOD:PUBLISH
X-PUBLISHED-TTL:P3D
REFRESH-INTERVAL:P3D
CALSCALE:GREGORIAN
BEGIN:VEVENT
DTSTART:20160921T140000Z
DTEND:20160921T160000Z
X-MICROSOFT-CDO-ALLDAYEVENT:FALSE
SUMMARY:Senior Resource Day - Knox County Task Force for Older Adults
DESCRIPTION:Join us as we celebrate the Knox County Task Force for Older Adults with a ribbon cutting.  The Senior Resource Day will follow.
X-ALT-DESC;FMTTYPE=text/html:Join us as we celebrate the Knox County Task Force for Older Adults with a ribbon cutting.&nbsp\; The Senior Resource Day will follow.&nbsp\; 
LOCATION:
UID:e.2893.899
SEQUENCE:3
DTSTAMP:20260423T225410Z
URL:http://knoxchamber.smartcms.site/events/details/senior-resource-day-knox-county-task-force-for-older-adults-09-21-2016-899
END:VEVENT

END:VCALENDAR
