BEGIN:VCALENDAR
VERSION:2.0
PRODID:-//ChamberMaster//Event Calendar 2.0//EN
METHOD:PUBLISH
X-PUBLISHED-TTL:P3D
REFRESH-INTERVAL:P3D
CALSCALE:GREGORIAN
BEGIN:VEVENT
DTSTART:20180919T140000Z
DTEND:20180919T180000Z
X-MICROSOFT-CDO-ALLDAYEVENT:FALSE
SUMMARY:Senior Resource Day by Knox County Task Force For Older Adults
DESCRIPTION:This free event is open to Knox County residents.  Many area businesses will have tables set up with information including:\n\n	Health and Wellness\n	Screenings\n	Nursing Facilities\n	Assisted Living\n	Home Health Agencies\n	Senior Centers\n	Hospice\n	Mobility Prevention/Management Awareness\n	And More!\n\nEvent is free to attend. \n\n\n\nATTENTION VENDORS:\n\n\n	Businesses may reserve booth space by contacting Curtis Farlee at cfarlee@laurelhealth.com. Contact Curtis for fees\, reservations\, and details.\n	Bring 8-foot table (max length) and chairs.\n	Provide one nice door prize and giveaways.\n\n\n\nKnox County Task Force For Older Adults is a 501c3 non-profit organization comprised of volunteers in the community\, servicing and improving quality of life for Knox County's older adults\, age 60 and better.
X-ALT-DESC;FMTTYPE=text/html:This free event is open to Knox County residents.&nbsp\; Many area businesses will have tables set up with information including:\n<ul>\n	<li>Health and Wellness</li>\n	<li>Screenings</li>\n	<li>Nursing Facilities</li>\n	<li>Assisted Living</li>\n	<li>Home Health Agencies</li>\n	<li>Senior Centers</li>\n	<li>Hospice</li>\n	<li>Mobility Prevention/Management Awareness</li>\n	<li>And More!</li>\n</ul>\nEvent is free to attend.&nbsp\;<br />\n<br />\n<u><strong>ATTENTION VENDORS:</strong></u>\n\n<ul>\n	<li>Businesses may reserve booth space by contacting Curtis Farlee at <a href="mailto:cfarlee@laurelhealth.com">cfarlee@laurelhealth.com</a>. Contact Curtis for fees\, reservations\, and details.</li>\n	<li>Bring 8-foot table (max length) and chairs.</li>\n	<li>Provide one nice door prize and giveaways.</li>\n</ul>\n<br />\n<strong>Knox County Task Force For Older Adults</strong>&nbsp\;is a 501c3 non-profit organization comprised of volunteers in the community\, servicing and improving quality of life for Knox County&rsquo\;s older adults\, age 60 and better.
LOCATION:First Church of the Nazarene 807 Coshocton Avenue\, Mount Vernon
UID:e.2893.3769
SEQUENCE:3
DTSTAMP:20260422T024113Z
URL:http://knoxchamber.smartcms.site/events/details/senior-resource-day-by-knox-county-task-force-for-older-adults-3769
END:VEVENT

END:VCALENDAR
