BEGIN:VCALENDAR
VERSION:2.0
PRODID:-//ChamberMaster//Event Calendar 2.0//EN
METHOD:PUBLISH
X-PUBLISHED-TTL:P3D
REFRESH-INTERVAL:P3D
CALSCALE:GREGORIAN
BEGIN:VEVENT
DTSTART:20170211T140000Z
DTEND:20170211T210000Z
X-MICROSOFT-CDO-ALLDAYEVENT:FALSE
SUMMARY:Second Saturday: Chocolate Walk
DESCRIPTION:Second Saturday CHOCOLATE WALK on Saturday\, February 11!\n\n\n\nJoin Main Street Mount Vernon downtown Mount Vernon for this special shopping event as participating member businesses offer special activities\, treats and sales. And yes\, there will be plenty of FREE CHOCOLATE! While visiting participating shops\, don't forget to sign up for our drawings! First Knox National Bank has generously provided a $50 Visa gift card. Lowe's Home Improvement of Mount Vernon has also donated a $50 gift card.
X-ALT-DESC;FMTTYPE=text/html:<strong><span style="color:#202020\;"><span style="font-family:helvetica\,sans-serif\;">Second Saturday&nbsp\;<u>CHOCOLATE WALK</u>&nbsp\;on Saturday\, February 11!</span></span></strong><br />\n<br />\n<span style="color:#202020\;"><span style="font-family:helvetica\,sans-serif\;">Join Main Street Mount Vernon downtown Mount Vernon for this special shopping event as participating member&nbsp\;businesses offer special activities\, treats and sales. And yes\, there will be plenty of <strong><u>FREE CHOCOLATE!</u></strong> While visiting participating shops\, don&#39\;t forget to sign up for our drawings!<strong><u> First Knox National Bank</u></strong> has generously provided a <strong>$50 Visa gift card</strong>. <strong><u>Lowe&#39\;s Home Improvement</u></strong> of Mount Vernon has also donated a<strong> $50 gift card</strong>.&nbsp\;</span></span>
LOCATION:
UID:e.2893.1256
SEQUENCE:3
DTSTAMP:20260423T124041Z
URL:http://knoxchamber.smartcms.site/events/details/second-saturday-chocolate-walk-1256
END:VEVENT

END:VCALENDAR
