BEGIN:VCALENDAR
VERSION:2.0
PRODID:-//ChamberMaster//Event Calendar 2.0//EN
METHOD:PUBLISH
X-PUBLISHED-TTL:P3D
REFRESH-INTERVAL:P3D
CALSCALE:GREGORIAN
BEGIN:VEVENT
DTSTART:20170126T160000Z
DTEND:20170126T173000Z
X-MICROSOFT-CDO-ALLDAYEVENT:FALSE
SUMMARY:SBA'S Emerging Leaders
DESCRIPTION:Join Us for an Information Session\n\nThursday\, January 26\, 2017\n\n11:00 a.m. - 12:30 p.m. \n\nSBA Columbus District Office \n\n401 North Front Street\, Suite 200\n\nColumbus\, Ohio 43215\n\nAttendees will have a chance to meet the instructor and alumni from the program to learn more about the class benefits and structure. Register for this event. \n\n SBA's Emerging Leaders is an intensive executive-level training initiative to accelerate the growth of high-potential small businesses located in America's cities.  Developed by the U.S. Small Business Administration\, and drawing on the experiences of advisors and business leaders in the community\, this comprehensive curriculum provides the tools to catapult your company to the next level and help it emerge as a force in your community. This training is not for businesses in the start-up phase.
X-ALT-DESC;FMTTYPE=text/html:<h1 class="govd_header" style="margin: 1.5em 0px 5px\; padding: 10px 0px\; font-size: 24px\; color: rgb(81\, 99\, 149)\; font-family: opensanssemibold\, Helvetica\, Arial\, sans-serif\; background-color: rgb(255\, 255\, 255)\; line-height: 25px\;">Join Us for an Information Session</h1>\n\n<p align="left" class="gd_p" style="margin: 0px 0px 14px\; background-color: rgb(255\, 255\, 255)\; color: rgb(10\, 26\, 31)\; padding: 5px\; font-stretch: normal\; font-size: 14px\; line-height: 18px\; font-family: &quot\;Helvetica Neue&quot\;\, Arial\, Helvetica\, sans-serif\;"><b>Thursday\, January 26\, 2017</b></p>\n\n<p align="left" class="gd_p" style="margin: 0px 0px 14px\; background-color: rgb(255\, 255\, 255)\; color: rgb(10\, 26\, 31)\; padding: 5px\; font-stretch: normal\; font-size: 14px\; line-height: 18px\; font-family: &quot\;Helvetica Neue&quot\;\, Arial\, Helvetica\, sans-serif\;"><b>11:00 a.m. - 12:30 p.m.&nbsp\;</b></p>\n\n<p align="left" class="gd_p" style="margin: 0px 0px 14px\; background-color: rgb(255\, 255\, 255)\; color: rgb(10\, 26\, 31)\; padding: 5px\; font-stretch: normal\; font-size: 14px\; line-height: 18px\; font-family: &quot\;Helvetica Neue&quot\;\, Arial\, Helvetica\, sans-serif\;"><b>SBA Columbus District Office&nbsp\;</b></p>\n\n<p align="left" class="gd_p" style="margin: 0px 0px 14px\; background-color: rgb(255\, 255\, 255)\; color: rgb(10\, 26\, 31)\; padding: 5px\; font-stretch: normal\; font-size: 14px\; line-height: 18px\; font-family: &quot\;Helvetica Neue&quot\;\, Arial\, Helvetica\, sans-serif\;"><b>401 North Front Street\, Suite 200</b></p>\n\n<p align="left" class="gd_p" style="margin: 0px 0px 14px\; background-color: rgb(255\, 255\, 255)\; color: rgb(10\, 26\, 31)\; padding: 5px\; font-stretch: normal\; font-size: 14px\; line-height: 18px\; font-family: &quot\;Helvetica Neue&quot\;\, Arial\, Helvetica\, sans-serif\;"><b>Columbus\, Ohio 43215</b></p>\n\n<p align="left" class="gd_p" style="margin: 0px 0px 13px\; background-color: rgb(255\, 255\, 255)\; color: rgb(10\, 26\, 31)\; padding: 5px\; font-stretch: normal\; font-size: 14px\; line-height: 18px\; font-family: &quot\;Helvetica Neue&quot\;\, Arial\, Helvetica\, sans-serif\;">Attendees will have a chance to meet the instructor and alumni from the program to learn more about the class benefits and structure.&nbsp\;<a href="https://2017emergingleaderscolumbus.eventbrite.com/?utm_medium=email&amp\;utm_source=govdelivery" style="color: rgb(33\, 118\, 174)\; text-decoration: none\;">Register</a>&nbsp\;for this event.&nbsp\;</p>\n\n<p align="left" class="gd_p" style="margin: 13px 0px\; background-color: rgb(255\, 255\, 255)\; color: rgb(10\, 26\, 31)\; padding: 5px\; font-stretch: normal\; font-size: 14px\; line-height: 18px\; font-family: &quot\;Helvetica Neue&quot\;\, Arial\, Helvetica\, sans-serif\;">&nbsp\;<a href="http://www.sba.gov/emergingleaders?utm_medium=email&amp\;utm_source=govdelivery" style="color: rgb(33\, 118\, 174)\; text-decoration: none\;">SBA&rsquo\;s Emerging Leaders</a>&nbsp\;is an intensive executive-level training initiative to accelerate the growth of high-potential small businesses located in America&rsquo\;s cities.&nbsp\;&nbsp\;Developed by the U.S. Small Business Administration\, and drawing on the experiences of advisors and business leaders in the community\, this comprehensive curriculum provides the tools to catapult your company to the next level and help it emerge as a force in your community.&nbsp\;<b>This training is not for businesses in the start-up phase.</b></p>\n
LOCATION:
UID:e.2893.1244
SEQUENCE:3
DTSTAMP:20260423T143101Z
URL:http://knoxchamber.smartcms.site/events/details/sba-s-emerging-leaders-1244
END:VEVENT

END:VCALENDAR
