BEGIN:VCALENDAR
VERSION:2.0
PRODID:-//ChamberMaster//Event Calendar 2.0//EN
METHOD:PUBLISH
X-PUBLISHED-TTL:P3D
REFRESH-INTERVAL:P3D
CALSCALE:GREGORIAN
BEGIN:VEVENT
DTSTART:20180227T230000Z
DTEND:20180228T010000Z
X-MICROSOFT-CDO-ALLDAYEVENT:FALSE
SUMMARY:Saint Vincent de Paul School Open House for Prospective Families
DESCRIPTION:Saint Vincent de Paul School will be hosting an Open House for Prospective Families on February 27th at 6:00pm at 206 E. Chestnut Street.  \n\n\n\nFor those interested in early childhood education\, come and learn more about our distinctive preschool programming. Classroom tours will give a glimpse of a day in the life of a student. A question and answer session and tour will also be held for families wanting to learn about the Kindergarten- 8th grade educational experience. \n\nDistinguishing aspects include: a Christ-centered environment\, a dedicated faculty\, Spanish instruction\, and an 11:1 student teacher ratio.  Information about our extended care\,\n\nextracurricular programs\, athletics\, and also be available at this event.  A $500 scholarship will be raffled off to prospective K -8 families. \n\n\n\nFor more information\, please call 740-393-3611.  Saint Vincent de Paul School is located at 206 E. Chestnut St. in Mt. Vernon.  All families are invited to come and see the Saint Vincent de Paul School difference!
X-ALT-DESC;FMTTYPE=text/html:Saint Vincent de Paul School will be hosting an Open House for Prospective Families on February 27<sup>th </sup>at 6:00pm at 206 E. Chestnut Street.&nbsp\;&nbsp\;<br />\n<br />\nFor those interested in early childhood education\, come and learn more about our distinctive preschool programming. Classroom tours will give a glimpse of a day in the life of a student. A question and answer session and tour will also be held for families wanting to learn about the Kindergarten- 8<sup>th</sup> grade educational experience.&nbsp\;<br />\nDistinguishing aspects include: a Christ-centered environment\, a dedicated faculty\, Spanish instruction\, and an 11:1 student teacher ratio.&nbsp\; Information about our extended care\,<br />\nextracurricular programs\, athletics\, and also be available at this event.&nbsp\; A $500 scholarship will be raffled off to prospective K -8 families.&nbsp\;<br />\n<br />\nFor more information\, please call 740-393-3611.&nbsp\; Saint Vincent de Paul School is located at 206 E. Chestnut St. in Mt. Vernon.&nbsp\; All families are invited to come and see the Saint Vincent de Paul School difference!
LOCATION:
UID:e.2893.2562
SEQUENCE:3
DTSTAMP:20260422T142215Z
URL:http://knoxchamber.smartcms.site/events/details/saint-vincent-de-paul-school-open-house-for-prospective-families-2562
END:VEVENT

END:VCALENDAR
