BEGIN:VCALENDAR
VERSION:2.0
PRODID:-//ChamberMaster//Event Calendar 2.0//EN
METHOD:PUBLISH
X-PUBLISHED-TTL:P3D
REFRESH-INTERVAL:P3D
CALSCALE:GREGORIAN
BEGIN:VEVENT
DTSTART:20211006T150000Z
DTEND:20211006T160000Z
X-MICROSOFT-CDO-ALLDAYEVENT:FALSE
SUMMARY:Safety Council Mega Meeting
DESCRIPTION:All Ohio employers are invited to attend two online statewide meetings hosted by BWC to supplement the Ohio Safety Council Program year.\n\n \n\nWednesday\, October 6\, 2021 \n\nLeading from Your Heart!\n\nDavid Sarkus\, MS\, CSP is Chief Servant Leader and Founder of David Sarkus International\, a leading health and safety management consulting and training firm \n\n \n\nWednesday\, April 13\, 2022 \n\nNow What? How to Lead by Bringing Your Human to Work\n\nErica Keswin is a two-time Wall Street Journal bestselling author\, internationally sought-after speaker\, and workplace strategist\n\n \n\nClick here for the details.\n\nAdd these dates to your calendar now and join us at the scheduled time for these live events. There is no need to pre-register.
X-ALT-DESC;FMTTYPE=text/html:<span style="font-size:12.0pt\;">All Ohio employers are invited to attend two online statewide meetings hosted by BWC to supplement the Ohio Safety Council Program year.</span><br />\n&nbsp\;<br />\n<em><span style="font-size:12.0pt\;">Wednesday\, October 6\, 2021 </span></em><br />\n<strong><span style="font-size:14.0pt\;">Leading from Your Heart!</span></strong><br />\n<span style="font-size:12.0pt\;">David Sarkus\, MS\, CSP is Chief Servant Leader and Founder of David Sarkus International\, a leading health and safety management consulting and training firm </span><br />\n&nbsp\;<br />\n<em><span style="font-size:12.0pt\;">Wednesday\, April 13\, 2022 </span></em><br />\n<strong><span style="font-size:14.0pt\;">Now What? How to Lead by Bringing Your Human to Work</span></strong><br />\n<span style="font-size:12.0pt\;">Erica Keswin is a two-time Wall Street Journal bestselling author\, internationally sought-after speaker\, and workplace strategist</span><br />\n&nbsp\;<br />\n<span style="font-size:12.0pt\;"><a href="https://chambermaster.blob.core.windows.net/userfiles/UserFiles/chambers/2893/File/SafetyCouncilMegaMeetingFlyer.pdf"><span style="color:#B22222\;"><strong>Click here for the&nbsp\;details</strong></span></a>.<br />\nAdd these dates to your calendar now and join us at the scheduled time for these live events. There is no need to pre-register.</span>
LOCATION:Online
UID:e.2893.5019
SEQUENCE:3
DTSTAMP:20260421T103853Z
URL:http://knoxchamber.smartcms.site/events/details/safety-council-mega-meeting-5019
END:VEVENT

END:VCALENDAR
