BEGIN:VCALENDAR
VERSION:2.0
PRODID:-//ChamberMaster//Event Calendar 2.0//EN
METHOD:PUBLISH
X-PUBLISHED-TTL:P3D
REFRESH-INTERVAL:P3D
CALSCALE:GREGORIAN
BEGIN:VEVENT
DTSTART:20180412T130000Z
DTEND:20180413T200000Z
X-MICROSOFT-CDO-ALLDAYEVENT:FALSE
SUMMARY:Rummage Sale
DESCRIPTION:Many items including Kenmore sewing machine\, record player\, air bed\, 12 service dish set\, camcorder\, canon color printer\, comforters\, lamps\, toys\, rocking horse\, clothes\, furniture\, kitchenware\, tools\, books\, and uniques.
X-ALT-DESC;FMTTYPE=text/html:Many items including Kenmore sewing machine\, record player\, air bed\, 12 service dish set\, camcorder\, canon color printer\, comforters\, lamps\, toys\, rocking horse\, clothes\, furniture\, kitchenware\, tools\, books\, and uniques.
LOCATION:First Presbyterian Church 106 N. Gay Street Mount Vernon
UID:e.2893.3621
SEQUENCE:3
DTSTAMP:20260422T105235Z
URL:http://knoxchamber.smartcms.site/events/details/rummage-sale-3621
END:VEVENT

END:VCALENDAR
