BEGIN:VCALENDAR
VERSION:2.0
PRODID:-//ChamberMaster//Event Calendar 2.0//EN
METHOD:PUBLISH
X-PUBLISHED-TTL:P3D
REFRESH-INTERVAL:P3D
CALSCALE:GREGORIAN
BEGIN:VEVENT
DTSTART:20231031T213000Z
DTEND:20231031T230000Z
X-MICROSOFT-CDO-ALLDAYEVENT:FALSE
SUMMARY:Riverside Recovery Services: Trunk or Treat
DESCRIPTION:Trunk or Treat\n\nCome Join Us!\n\n\n\nOctober 31\, 2023\n\n5:30-7:00pm\n\n\n\nRiverside Recovery Services\n\n408 Coshocton Avenue\n\nMount Vernon\, Ohio
X-ALT-DESC;FMTTYPE=text/html:<div style="text-align: center\;"><span style="font-family:tahoma\;"><span style="font-size:22px\;"><span style="color:#FF8C00\;"><strong><span style="font-size:24px\;">Trunk or Treat</span></strong></span><br />\n<span style="color:#000000\;"><strong>Come Join Us!<br />\n<br />\nOctober 31\, 2023<br />\n5:30-7:00pm<br />\n<br />\nRiverside Recovery Services<br />\n408 Coshocton Avenue<br />\nMount Vernon\, Ohio</strong></span></span></span></div>\n
LOCATION:
UID:e.2893.8600
SEQUENCE:3
DTSTAMP:20260421T085518Z
URL:http://knoxchamber.smartcms.site/events/details/riverside-recovery-services-trunk-or-treat-8600
END:VEVENT

END:VCALENDAR
