BEGIN:VCALENDAR
VERSION:2.0
PRODID:-//ChamberMaster//Event Calendar 2.0//EN
METHOD:PUBLISH
X-PUBLISHED-TTL:P3D
REFRESH-INTERVAL:P3D
CALSCALE:GREGORIAN
BEGIN:VEVENT
DTSTART:20180908T210000Z
DTEND:20180909T000000Z
X-MICROSOFT-CDO-ALLDAYEVENT:FALSE
SUMMARY:RIverside Recovery Services Recovery Fest
DESCRIPTION:Riverside Recovery Services their first annual recovery festival. Sober activities\, free food\, corn hole tournament\, pie walk\, live music. Free sober fun for folks of all ages! Motivational speaker Maurice Clarett will share his story of experience\, strength and hope. The event is open to the entire community!
X-ALT-DESC;FMTTYPE=text/html:Riverside Recovery Services their first annual recovery festival. Sober activities\, free food\, corn hole tournament\, pie walk\, live music. Free sober fun for folks of all ages! Motivational speaker Maurice Clarett will share his story of experience\, strength and hope. The event is open to the entire community!
LOCATION:Riverside Park
UID:e.2893.3781
SEQUENCE:3
DTSTAMP:20260422T024130Z
URL:http://knoxchamber.smartcms.site/events/details/riverside-recovery-services-recovery-fest-3781
END:VEVENT

END:VCALENDAR
