BEGIN:VCALENDAR
VERSION:2.0
PRODID:-//ChamberMaster//Event Calendar 2.0//EN
METHOD:PUBLISH
X-PUBLISHED-TTL:P3D
REFRESH-INTERVAL:P3D
CALSCALE:GREGORIAN
BEGIN:VEVENT
DTSTART:20181006T180000Z
DTEND:20181006T200000Z
X-MICROSOFT-CDO-ALLDAYEVENT:FALSE
SUMMARY:River Ramble
DESCRIPTION:Meet at the BFEC Resource Center. Join BFEC's Land Manager/Naturalist\, Shane McGuire\, on this easy stroll along our River Trail. Enjoy the autumn colors of our large Sycamore tree and learn about some of our conservation initiatives through the riparian corridor and along the Kokosing River. This is an easy 1 mile hike.
X-ALT-DESC;FMTTYPE=text/html:Meet at the <span style="color:#800000\;"><em>BFEC Resource Center</em></span>. Join BFEC&rsquo\;s Land Manager/Naturalist\, Shane McGuire\, on this easy stroll along our River Trail. Enjoy the autumn colors of our large Sycamore tree and learn about some of our conservation initiatives through the riparian corridor and along the Kokosing River. This is an easy 1 mile hike.
LOCATION:Brown Family Environmental Center 9781 Laymon Road\, Gambier
UID:e.2893.3803
SEQUENCE:3
DTSTAMP:20260422T010640Z
URL:http://knoxchamber.smartcms.site/events/details/river-ramble-3803
END:VEVENT

END:VCALENDAR
