BEGIN:VCALENDAR
VERSION:2.0
PRODID:-//ChamberMaster//Event Calendar 2.0//EN
METHOD:PUBLISH
X-PUBLISHED-TTL:P3D
REFRESH-INTERVAL:P3D
CALSCALE:GREGORIAN
BEGIN:VEVENT
DTSTART:20191207T190000Z
DTEND:20191207T210000Z
X-MICROSOFT-CDO-ALLDAYEVENT:FALSE
SUMMARY:Richard Cowdrey visit
DESCRIPTION:Richard Cowdrey\, author/illustrator of A Very Fiona Christmas will be at Paragraphs.
X-ALT-DESC;FMTTYPE=text/html:Richard Cowdrey\, author/illustrator of <em>A Very Fiona Christmas</em> will be at Paragraphs.
LOCATION:Paragraphs Bookstore / 229 S. Main Street
UID:e.2893.4680
SEQUENCE:3
DTSTAMP:20260421T005829Z
URL:http://knoxchamber.smartcms.site/events/details/richard-cowdrey-visit-4680
END:VEVENT

END:VCALENDAR
