BEGIN:VCALENDAR
VERSION:2.0
PRODID:-//ChamberMaster//Event Calendar 2.0//EN
METHOD:PUBLISH
X-PUBLISHED-TTL:P3D
REFRESH-INTERVAL:P3D
CALSCALE:GREGORIAN
BEGIN:VEVENT
DTSTART:20170804T200000Z
DTEND:20170804T220000Z
X-MICROSOFT-CDO-ALLDAYEVENT:FALSE
SUMMARY:Ribbon Cutting - United Way of Knox County
DESCRIPTION:Join us on Friday\, August 4th for a Ribbon Cutting and Open House in honor of the United Way of Knox County's new location!
X-ALT-DESC;FMTTYPE=text/html:Join us on Friday\, August 4th for a Ribbon Cutting and Open House in honor of the United Way of Knox County&#39\;s new location!&nbsp\;
LOCATION:305 East High Street\, Mount Vernon
UID:e.2893.1398
SEQUENCE:3
DTSTAMP:20260423T023906Z
URL:http://knoxchamber.smartcms.site/events/details/ribbon-cutting-united-way-of-knox-county-1398
END:VEVENT

END:VCALENDAR
