BEGIN:VCALENDAR
VERSION:2.0
PRODID:-//ChamberMaster//Event Calendar 2.0//EN
METHOD:PUBLISH
X-PUBLISHED-TTL:P3D
REFRESH-INTERVAL:P3D
CALSCALE:GREGORIAN
BEGIN:VEVENT
DTSTART:20170413T203000Z
DTEND:20170413T223000Z
X-MICROSOFT-CDO-ALLDAYEVENT:FALSE
SUMMARY:Ribbon Cutting - Toth and Team RE/MAX Consultant Group
DESCRIPTION:Join us for a Ribbon Cutting and re-opening of RE/MAX Consultant Group\, Toth and Team on April 13th beginning at 4:30pm. Join us for appetizers\, refreshments and a raffle!
X-ALT-DESC;FMTTYPE=text/html:Join us for a Ribbon Cutting and re-opening of RE/MAX Consultant Group\, Toth and Team on April 13th beginning at 4:30pm. Join us for appetizers\, refreshments and a raffle!&nbsp\;
LOCATION:22021 Coshocton Avenue\, Suite A\, Howard (just outside of Apple Valley\, same plaza as Domino's)
UID:e.2893.1291
SEQUENCE:3
DTSTAMP:20260423T093928Z
URL:http://knoxchamber.smartcms.site/events/details/ribbon-cutting-toth-and-team-re-max-consultant-group-1291
END:VEVENT

END:VCALENDAR
