BEGIN:VCALENDAR
VERSION:2.0
PRODID:-//ChamberMaster//Event Calendar 2.0//EN
METHOD:PUBLISH
X-PUBLISHED-TTL:P3D
REFRESH-INTERVAL:P3D
CALSCALE:GREGORIAN
BEGIN:VEVENT
DTSTART:20171201T170000Z
DTEND:20171201T180000Z
X-MICROSOFT-CDO-ALLDAYEVENT:FALSE
SUMMARY:Ribbon Cutting - The Pavilion Sports and Event Complex
DESCRIPTION:Join us at the The Pavilion Sports and Event Complex on Friday\, December 1st for their Grand Opening! A Ribbon Cutting Ceremony will take place at 12:00pm.
X-ALT-DESC;FMTTYPE=text/html:Join us at the&nbsp\;The Pavilion Sports and Event Complex on Friday\, December 1st for their Grand Opening! A Ribbon Cutting Ceremony will take place at 12:00pm.&nbsp\;
LOCATION:741 Fairgrounds Road\, Mount Vernon
UID:e.2893.2529
SEQUENCE:3
DTSTAMP:20260422T175008Z
URL:http://knoxchamber.smartcms.site/events/details/ribbon-cutting-the-pavilion-sports-and-event-complex-2529
END:VEVENT

END:VCALENDAR
