BEGIN:VCALENDAR
VERSION:2.0
PRODID:-//ChamberMaster//Event Calendar 2.0//EN
METHOD:PUBLISH
X-PUBLISHED-TTL:P3D
REFRESH-INTERVAL:P3D
CALSCALE:GREGORIAN
BEGIN:VEVENT
DTSTART:20170818T160000Z
DTEND:20170818T170000Z
X-MICROSOFT-CDO-ALLDAYEVENT:FALSE
SUMMARY:Ribbon Cutting - The Diva Room Salon
DESCRIPTION:Join us for a Ribbon Cutting at The Diva Room Salon\, in honor of their Grand Opening! August 18th at 12:00pm\, with an Open House to follow.
X-ALT-DESC;FMTTYPE=text/html:Join us for a Ribbon Cutting at The Diva Room Salon\, in honor of their Grand Opening! August 18th at 12:00pm\, with an Open House to follow.&nbsp\;
LOCATION:300 Tilden Avenue\, Suite 1C\, Mount Vernon
UID:e.2893.1449
SEQUENCE:3
DTSTAMP:20260423T023908Z
URL:http://knoxchamber.smartcms.site/events/details/ribbon-cutting-the-diva-room-salon-1449
END:VEVENT

END:VCALENDAR
