BEGIN:VCALENDAR
VERSION:2.0
PRODID:-//ChamberMaster//Event Calendar 2.0//EN
METHOD:PUBLISH
X-PUBLISHED-TTL:P3D
REFRESH-INTERVAL:P3D
CALSCALE:GREGORIAN
BEGIN:VEVENT
DTSTART:20181011T203000Z
DTEND:20181011T210000Z
X-MICROSOFT-CDO-ALLDAYEVENT:FALSE
SUMMARY:Ribbon Cutting - Stein Brewing Company
DESCRIPTION:Join us for the Ribbon Cutting Ceremony for Stein Brewing Company!  On Thursday\, October 11 at 4:30 PM\, we will formally welcome this restaurant and bar to our community!  All are welcome to attend!
X-ALT-DESC;FMTTYPE=text/html:Join us for the <span style="color:#800000\;">Ribbon Cutting Ceremony</span> for<span style="color:#800000\;"><em> Stein Brewing Company</em></span>!&nbsp\; On Thursday\, October 11 at 4:30 PM\, we will formally welcome this restaurant and bar to our community!&nbsp\; All are welcome to attend!<br />\n&nbsp\;
LOCATION:10 West Vine Street\, Mount Vernon
UID:e.2893.3812
SEQUENCE:3
DTSTAMP:20260422T024122Z
URL:http://knoxchamber.smartcms.site/events/details/ribbon-cutting-stein-brewing-company-3812
END:VEVENT

END:VCALENDAR
