BEGIN:VCALENDAR
VERSION:2.0
PRODID:-//ChamberMaster//Event Calendar 2.0//EN
METHOD:PUBLISH
X-PUBLISHED-TTL:P3D
REFRESH-INTERVAL:P3D
CALSCALE:GREGORIAN
BEGIN:VEVENT
DTSTART:20171006T160000Z
DTEND:20171006T170000Z
X-MICROSOFT-CDO-ALLDAYEVENT:FALSE
SUMMARY:Ribbon Cutting - Shoe Carnival
DESCRIPTION:Join us on Friday\, October 6th at Shoe Carnival for a Ribbon Cutting in celebration of their Grand Opening!
X-ALT-DESC;FMTTYPE=text/html:Join us on Friday\, October 6th at Shoe Carnival for a Ribbon Cutting in celebration of their Grand Opening!&nbsp\;
LOCATION:915 Coshocton Ave\, Mt Vernon\, OH 43050
UID:e.2893.2500
SEQUENCE:3
DTSTAMP:20260422T225846Z
URL:http://knoxchamber.smartcms.site/events/details/ribbon-cutting-shoe-carnival-2500
END:VEVENT

END:VCALENDAR
