BEGIN:VCALENDAR
VERSION:2.0
PRODID:-//ChamberMaster//Event Calendar 2.0//EN
METHOD:PUBLISH
X-PUBLISHED-TTL:P3D
REFRESH-INTERVAL:P3D
CALSCALE:GREGORIAN
BEGIN:VEVENT
DTSTART:20171031T150000Z
DTEND:20171031T160000Z
X-MICROSOFT-CDO-ALLDAYEVENT:FALSE
SUMMARY:Ribbon Cutting - Riverside Recovery Services
DESCRIPTION:Join us for a ribbon cutting ceremony as Riverside Recovery Services opens their doors to the community! Riverside Recovery Services is a drug and alcohol counseling program that will provide services to Knox and surrounding counties. \n\n\n\nStop by to meet the staff\, learn more about who they are and what they do! Enjoy refreshments and earn some freebies!
X-ALT-DESC;FMTTYPE=text/html:Join us for a ribbon cutting ceremony as Riverside Recovery Services opens their doors to the community! Riverside Recovery Services is a drug and alcohol counseling program that will provide services to Knox and surrounding counties.&nbsp\;<br />\n<br />\nStop by to meet the staff\, learn more about who they are and what they do! Enjoy refreshments and earn some freebies!&nbsp\;
LOCATION:Riverside Recovery Services 213 East Chestnut Street\, Mount Vernon
UID:e.2893.2510
SEQUENCE:3
DTSTAMP:20260422T225931Z
URL:http://knoxchamber.smartcms.site/events/details/ribbon-cutting-riverside-recovery-services-2510
END:VEVENT

END:VCALENDAR
