BEGIN:VCALENDAR
VERSION:2.0
PRODID:-//ChamberMaster//Event Calendar 2.0//EN
METHOD:PUBLISH
X-PUBLISHED-TTL:P3D
REFRESH-INTERVAL:P3D
CALSCALE:GREGORIAN
BEGIN:VEVENT
DTSTART:20180330T160000Z
DTEND:20180330T180000Z
X-MICROSOFT-CDO-ALLDAYEVENT:FALSE
SUMMARY:Ribbon Cutting - Rebekah Mullins\, Realtor - Howard Hanna Realcom
DESCRIPTION:Join us for a ribbon cutting ceremony with Rebekah Mullins\, Realtor at Howard Hanna Realcom located at 110 East Gambier Street\, Suite 2 in Mount Vernon on March 30th from 12:00pm to 2:00pm.\n\n\n\nJoin us for beverages\, appetizers\, and raffles!
X-ALT-DESC;FMTTYPE=text/html:Join us for a ribbon cutting ceremony with Rebekah Mullins\, Realtor at Howard Hanna Realcom&nbsp\;located at 110 East Gambier Street\, Suite 2 in Mount Vernon on March 30th from 12:00pm to 2:00pm.<br />\n<br />\nJoin us for beverages\, appetizers\, and raffles!&nbsp\;
LOCATION:110 East Gambier Street\, Suite 2 Mount Vernon
UID:e.2893.2607
SEQUENCE:3
DTSTAMP:20260422T142214Z
URL:http://knoxchamber.smartcms.site/events/details/ribbon-cutting-rebekah-mullins-realtor-howard-hanna-realcom-2607
END:VEVENT

END:VCALENDAR
