BEGIN:VCALENDAR
VERSION:2.0
PRODID:-//ChamberMaster//Event Calendar 2.0//EN
METHOD:PUBLISH
X-PUBLISHED-TTL:P3D
REFRESH-INTERVAL:P3D
CALSCALE:GREGORIAN
BEGIN:VEVENT
DTSTART:20180420T190000Z
DTEND:20180420T230000Z
X-MICROSOFT-CDO-ALLDAYEVENT:FALSE
SUMMARY:Ribbon Cutting - Primary Vision Care Farewell to Dr. York
DESCRIPTION:Join us to celebrate the career of Dr. Richard York.\n\n\n\nDr. York will be present to say his goodbyes to all of his patients and to hand the business over to Primary Vision Care!  Come join us for this once in a lifetime celebration and enjoy appetizers and great conversation! There will also be a trunk show with discounted frames and simple eye exams from 3:00pm to 5:30pm\n\n\n\nA Ribbon Cutting Ceremony will take place at 6:00pm.
X-ALT-DESC;FMTTYPE=text/html:Join us to celebrate the career of Dr. Richard York.<br />\n<br />\nDr. York will be present to say his goodbyes to all of his patients and to hand the business over to Primary Vision Care!&nbsp\; Come join us for this once in a lifetime celebration and enjoy appetizers and great conversation! There will also be a trunk show with discounted frames and simple eye exams from 3:00pm to 5:30pm<br />\n<br />\n<span style="font-size:20px\;"><strong>A Ribbon Cutting Ceremony will take place at 6:00pm.&nbsp\;</strong></span><br />\n&nbsp\;
LOCATION:1684 Venture Dr.\, Suite A Mount Vernon\, OH 43050
UID:e.2893.2605
SEQUENCE:3
DTSTAMP:20260422T124021Z
URL:http://knoxchamber.smartcms.site/events/details/ribbon-cutting-primary-vision-care-farewell-to-dr-york-2605
END:VEVENT

END:VCALENDAR
