BEGIN:VCALENDAR
VERSION:2.0
PRODID:-//ChamberMaster//Event Calendar 2.0//EN
METHOD:PUBLISH
X-PUBLISHED-TTL:P3D
REFRESH-INTERVAL:P3D
CALSCALE:GREGORIAN
BEGIN:VEVENT
DTSTART:20170509T200000Z
DTEND:20170509T220000Z
X-MICROSOFT-CDO-ALLDAYEVENT:FALSE
SUMMARY:Ribbon Cutting & Open House - Kindred Hospice
DESCRIPTION:Join us on May 9th at Kindred Hospice for a Ribbon Cutting & Open House from 4:00pm to 6:00pm. The Ribbon Cutting will take place at 5:00pm. \n\nBring your business card for a drawing. Each person will receive a goody bag and refreshments will be served.
X-ALT-DESC;FMTTYPE=text/html:Join us on May 9th at Kindred Hospice for a Ribbon Cutting &amp\; Open House from 4:00pm to 6:00pm. The Ribbon Cutting will take place at 5:00pm.&nbsp\;<br />\n<span style="color: rgb(32\, 32\, 32)\; text-align: -webkit-center\;">Bring your business card for a drawing. Each person will receive a goody bag and refreshments will be served.</span>
LOCATION:112 Harcourt Road\, Suite 3\, Mount Vernon
UID:e.2893.1381
SEQUENCE:3
DTSTAMP:20260423T093917Z
URL:http://knoxchamber.smartcms.site/events/details/ribbon-cutting-open-house-kindred-hospice-1381
END:VEVENT

END:VCALENDAR
