BEGIN:VCALENDAR
VERSION:2.0
PRODID:-//ChamberMaster//Event Calendar 2.0//EN
METHOD:PUBLISH
X-PUBLISHED-TTL:P3D
REFRESH-INTERVAL:P3D
CALSCALE:GREGORIAN
BEGIN:VEVENT
DTSTART:20171130T170000Z
DTEND:20171130T180000Z
X-MICROSOFT-CDO-ALLDAYEVENT:FALSE
SUMMARY:Ribbon Cutting - Open House
DESCRIPTION:Celebrate with The Laurels of Mount Vernon for the grand opening of The Laurels Outpatient Clinic in Fredericktown\, located at 117 Columbus Road\, Fredericktown. \n\nLunch will be provided.
X-ALT-DESC;FMTTYPE=text/html:Celebrate with The Laurels of Mount Vernon for the grand opening of The Laurels Outpatient Clinic in Fredericktown\, located at 117 Columbus Road\, Fredericktown.&nbsp\;<br />\nLunch will be provided.
LOCATION:117 Columbus Road in Fredericktown
UID:e.2893.2517
SEQUENCE:3
DTSTAMP:20260422T193412Z
URL:http://knoxchamber.smartcms.site/events/details/ribbon-cutting-open-house-2517
END:VEVENT

END:VCALENDAR
