BEGIN:VCALENDAR
VERSION:2.0
PRODID:-//ChamberMaster//Event Calendar 2.0//EN
METHOD:PUBLISH
X-PUBLISHED-TTL:P3D
REFRESH-INTERVAL:P3D
CALSCALE:GREGORIAN
BEGIN:VEVENT
DTSTART:20180419T203000Z
DTEND:20180419T213000Z
X-MICROSOFT-CDO-ALLDAYEVENT:FALSE
SUMMARY:Ribbon Cutting - Mount Vernon Players\; Players Space
DESCRIPTION:Join us on Thursday\, April 19th from 4:30pm to 5:30pm for an Open House and Ribbon Cutting at the Mount Vernon Players\, Players Space (prophouse & meeting space) located at 107 West Gambier Street in Mount Vernon. \n\n\n\nAn Open House will take place from 4:30pm to 5:30pm.\n\nRibbon Cutting Ceremony at 5:00pm. \n\n\n\nPlease be advised that there are NO Public Restrooms available.
X-ALT-DESC;FMTTYPE=text/html:Join us on Thursday\, April 19th from 4:30pm to 5:30pm for an Open House and Ribbon Cutting at the Mount Vernon Players\, Players Space (prophouse &amp\; meeting space) located at 107 West Gambier Street in Mount Vernon.&nbsp\;<br />\n<br />\nAn Open House will take place from 4:30pm to 5:30pm.<br />\nRibbon Cutting Ceremony at 5:00pm.&nbsp\;<br />\n<br />\n<strong>Please be advised that there are NO Public Restrooms available.&nbsp\;</strong>
LOCATION:107 West Gambier Street\, Mount Vernon
UID:e.2893.2604
SEQUENCE:3
DTSTAMP:20260422T105901Z
URL:http://knoxchamber.smartcms.site/events/details/ribbon-cutting-mount-vernon-players-players-space-2604
END:VEVENT

END:VCALENDAR
