BEGIN:VCALENDAR
VERSION:2.0
PRODID:-//ChamberMaster//Event Calendar 2.0//EN
METHOD:PUBLISH
X-PUBLISHED-TTL:P3D
REFRESH-INTERVAL:P3D
CALSCALE:GREGORIAN
BEGIN:VEVENT
DTSTART:20170331T130000Z
DTEND:20170401T200000Z
X-MICROSOFT-CDO-ALLDAYEVENT:FALSE
SUMMARY:Ribbon Cutting - Mid-Ohio Suzuki
DESCRIPTION:March 31st through April 1st a day-day grand re-opening. Meet the new owners Dave and Carol Ewart. \n\nRibbon Cutting ceremony on Friday\, March 31st at Noon.\n\n \n\n2-Day Open House Hours:    Friday\, March 31st from 9:00am until 5:30pm\n\n                                           Saturday\, April 1st from 9:00am until 4:00pm\n\n \n\nBargain items\, vendors\, CES Credit Union financing\, food\, entertainment and give aways!
X-ALT-DESC;FMTTYPE=text/html:March 31<sup>st</sup> through April 1<sup>st</sup> a day-day grand re-opening.&nbsp\;Meet the new owners Dave and Carol Ewart.&nbsp\;<br />\nRibbon Cutting ceremony on Friday\, March 31<sup>st</sup> at Noon.<br />\n&nbsp\;<br />\n2-Day Open House Hours: &nbsp\; &nbsp\;Friday\, March 31<sup>st</sup> from 9:00am until 5:30pm<br />\n&nbsp\; &nbsp\; &nbsp\; &nbsp\; &nbsp\; &nbsp\; &nbsp\; &nbsp\; &nbsp\; &nbsp\; &nbsp\; &nbsp\; &nbsp\; &nbsp\; &nbsp\; &nbsp\; &nbsp\; &nbsp\; &nbsp\; &nbsp\; &nbsp\; &nbsp\;Saturday\, April 1<sup>st</sup> from 9:00am until 4:00pm<br />\n&nbsp\;<br />\n<span style="font-family:calibri\,sans-serif\;"><span style="font-size:11.0pt\;">Bargain items\, vendors\, CES Credit Union financing\, food\, entertainment and give aways!&nbsp\;</span></span>
LOCATION:
UID:e.2893.1274
SEQUENCE:3
DTSTAMP:20260423T093657Z
URL:http://knoxchamber.smartcms.site/events/details/ribbon-cutting-mid-ohio-suzuki-1274
END:VEVENT

END:VCALENDAR
