BEGIN:VCALENDAR
VERSION:2.0
PRODID:-//ChamberMaster//Event Calendar 2.0//EN
METHOD:PUBLISH
X-PUBLISHED-TTL:P3D
REFRESH-INTERVAL:P3D
CALSCALE:GREGORIAN
BEGIN:VEVENT
DTSTART:20181114T210000Z
DTEND:20181114T223000Z
X-MICROSOFT-CDO-ALLDAYEVENT:FALSE
SUMMARY:Ribbon Cutting Main Street Mount Vernon
DESCRIPTION:Join us as we officially welcome Main Street Mount Vernon to their new location on South Main Street!  All are welcome to attend!
X-ALT-DESC;FMTTYPE=text/html:Join us as we officially welcome Main Street Mount Vernon to their new location on South Main Street!&nbsp\; All are welcome to attend!
LOCATION:Main Street Mount Vernon 210 South Main Street\, Mount Vernon
UID:e.2893.3833
SEQUENCE:3
DTSTAMP:20260422T011100Z
URL:http://knoxchamber.smartcms.site/events/details/ribbon-cutting-main-street-mount-vernon-3833
END:VEVENT

END:VCALENDAR
