BEGIN:VCALENDAR
VERSION:2.0
PRODID:-//ChamberMaster//Event Calendar 2.0//EN
METHOD:PUBLISH
X-PUBLISHED-TTL:P3D
REFRESH-INTERVAL:P3D
CALSCALE:GREGORIAN
BEGIN:VEVENT
DTSTART:20170814T200000Z
DTEND:20170814T220000Z
X-MICROSOFT-CDO-ALLDAYEVENT:FALSE
SUMMARY:Ribbon Cutting - Knox County Health Department Health Center
DESCRIPTION:Join us at the Knox County Health Department for a Ribbon Cutting Celebration in honor of the new Knox County Community Health Center. Join us for refreshments\, clinic tours and giveaways.
X-ALT-DESC;FMTTYPE=text/html:Join us at the Knox County Health Department for a Ribbon Cutting Celebration in honor of the new Knox County Community Health Center. Join us for refreshments\, clinic tours and giveaways.&nbsp\;
LOCATION:Knox County Health Department 11660 Upper Gilchrist Road\, Mount Vernon
UID:e.2893.1450
SEQUENCE:3
DTSTAMP:20260423T023906Z
URL:http://knoxchamber.smartcms.site/events/details/ribbon-cutting-knox-county-health-department-health-center-1450
END:VEVENT

END:VCALENDAR
