BEGIN:VCALENDAR
VERSION:2.0
PRODID:-//ChamberMaster//Event Calendar 2.0//EN
METHOD:PUBLISH
X-PUBLISHED-TTL:P3D
REFRESH-INTERVAL:P3D
CALSCALE:GREGORIAN
BEGIN:VEVENT
DTSTART:20180406T203000Z
DTEND:20180406T220000Z
X-MICROSOFT-CDO-ALLDAYEVENT:FALSE
SUMMARY:Ribbon Cutting - HER Realtors Mt Vernon Community Office
DESCRIPTION:Join us for an Open House & Ribbon Cutting Ceremony at HER Realtors Mount Vernon Community Office on April 6th.  The Ribbon Cutting ceremony will take place at 5:30pm.  The Open House runs from 4:30pm to 6:00pm.  Cake and refreshments served.\n\n\n\nJoin us in welcoming Jenna Guthrie\, Owner/Realtor/Auctioneer.
X-ALT-DESC;FMTTYPE=text/html:Join us for an Open House &amp\; Ribbon Cutting Ceremony at HER Realtors Mount Vernon Community Office on April 6th.&nbsp\; The Ribbon Cutting ceremony will take place at 5:30pm.&nbsp\; The Open House runs from 4:30pm to 6:00pm.&nbsp\; Cake and refreshments served.<br />\n<br />\nJoin us in welcoming Jenna Guthrie\, Owner/Realtor/Auctioneer.
LOCATION:225 South Main Street\, Mount Vernon
UID:e.2893.2612
SEQUENCE:3
DTSTAMP:20260422T105859Z
URL:http://knoxchamber.smartcms.site/events/details/ribbon-cutting-her-realtors-mt-vernon-community-office-2612
END:VEVENT

END:VCALENDAR
