BEGIN:VCALENDAR
VERSION:2.0
PRODID:-//ChamberMaster//Event Calendar 2.0//EN
METHOD:PUBLISH
X-PUBLISHED-TTL:P3D
REFRESH-INTERVAL:P3D
CALSCALE:GREGORIAN
BEGIN:VEVENT
DTSTART:20171208T170000Z
DTEND:20171208T180000Z
X-MICROSOFT-CDO-ALLDAYEVENT:FALSE
SUMMARY:Ribbon Cutting - Gantt Homes Inc. & The Hive Adult Services
DESCRIPTION:Join us for a ribbon cutting ceremony at Gantt Homes Inc. & The Hive Adult Day Services at 12:00 pm in honor of their Grand Re-Opening.
X-ALT-DESC;FMTTYPE=text/html:Join us for a ribbon cutting ceremony at Gantt Homes Inc. &amp\; The Hive Adult Day Services at 12:00 pm in honor of their Grand Re-Opening.&nbsp\;
LOCATION:113 W Gambier Street\, Mount Vernon
UID:e.2893.2513
SEQUENCE:3
DTSTAMP:20260422T175049Z
URL:http://knoxchamber.smartcms.site/events/details/ribbon-cutting-gantt-homes-inc-the-hive-adult-services-2513
END:VEVENT

END:VCALENDAR
