BEGIN:VCALENDAR
VERSION:2.0
PRODID:-//ChamberMaster//Event Calendar 2.0//EN
METHOD:PUBLISH
X-PUBLISHED-TTL:P3D
REFRESH-INTERVAL:P3D
CALSCALE:GREGORIAN
BEGIN:VEVENT
DTSTART:20170224T170000Z
DTEND:20170225T020000Z
X-MICROSOFT-CDO-ALLDAYEVENT:FALSE
SUMMARY:Ribbon Cutting - Escape Zone
DESCRIPTION:Join us for the Grand Opening & Ribbon Cutting Ceremony at the new location of the Escape Zone!
X-ALT-DESC;FMTTYPE=text/html:Join us for the Grand Opening &amp\; Ribbon Cutting Ceremony at the new location of the Escape Zone!&nbsp\;\n<div id="evp-event-location-name" style="color: rgb(91\, 91\, 91)\; font-family: &quot\;Helvetica Neue&quot\;\, Arial\, Helvetica\, sans-serif\; font-size: 12.16px\; background-color: rgb(243\, 243\, 243)\;">&nbsp\;</div>\n
LOCATION:Escape Zone (Old Armory Building) 1 Mansfield Avenue Mount Vernon 43050
UID:e.2893.1250
SEQUENCE:3
DTSTAMP:20260423T124301Z
URL:http://knoxchamber.smartcms.site/events/details/ribbon-cutting-escape-zone-1250
END:VEVENT

END:VCALENDAR
