BEGIN:VCALENDAR
VERSION:2.0
PRODID:-//ChamberMaster//Event Calendar 2.0//EN
METHOD:PUBLISH
X-PUBLISHED-TTL:P3D
REFRESH-INTERVAL:P3D
CALSCALE:GREGORIAN
BEGIN:VEVENT
DTSTART:20210920T150000Z
DTEND:20210920T160000Z
X-MICROSOFT-CDO-ALLDAYEVENT:FALSE
SUMMARY:Ribbon Cutting Ceremony: YMCA of Mount Vernon
DESCRIPTION:Join YMCA Director\, Nick Clark as they officially unveil the latest renovation undertaking.  Much of the work completed over the pandemic\, the YMCA looks to share their newly rejuvenated space with the Knox County Community.
X-ALT-DESC;FMTTYPE=text/html:Join YMCA Director\, Nick Clark as they officially unveil the latest renovation undertaking.&nbsp\; Much of the work completed over the pandemic\, the YMCA looks to share their newly rejuvenated space with the Knox County Community.&nbsp\;
LOCATION:103 North Main Street Mount Vernon
UID:e.2893.4979
SEQUENCE:3
DTSTAMP:20260419T144807Z
URL:http://knoxchamber.smartcms.site/events/details/ribbon-cutting-ceremony-ymca-of-mount-vernon-4979
END:VEVENT

END:VCALENDAR
