BEGIN:VCALENDAR
VERSION:2.0
PRODID:-//ChamberMaster//Event Calendar 2.0//EN
METHOD:PUBLISH
X-PUBLISHED-TTL:P3D
REFRESH-INTERVAL:P3D
CALSCALE:GREGORIAN
BEGIN:VEVENT
DTSTART:20210805T200000Z
DTEND:20210805T210000Z
X-MICROSOFT-CDO-ALLDAYEVENT:FALSE
SUMMARY:Ribbon Cutting Ceremony: State Farm Insurance - David Cooper
DESCRIPTION:Join us at 700 North Main Street for the Official Ribbon Cutting Ceremony for State Farm Insurance\, Offices of David Cooper!  Followed by an Open House\, the ceremony is open to the public and will begin at 4pm.
X-ALT-DESC;FMTTYPE=text/html:Join us at 700 North Main Street for the Official Ribbon Cutting Ceremony for State Farm Insurance\, Offices of David Cooper!&nbsp\; Followed by an Open House\, the ceremony is open to the public and will begin at 4pm.&nbsp\;
LOCATION:700 North Main Street Mount Vernon
UID:e.2893.4932
SEQUENCE:3
DTSTAMP:20260419T162603Z
URL:http://knoxchamber.smartcms.site/events/details/ribbon-cutting-ceremony-state-farm-insurance-david-cooper-4932
END:VEVENT

END:VCALENDAR
