BEGIN:VCALENDAR
VERSION:2.0
PRODID:-//ChamberMaster//Event Calendar 2.0//EN
METHOD:PUBLISH
X-PUBLISHED-TTL:P3D
REFRESH-INTERVAL:P3D
CALSCALE:GREGORIAN
BEGIN:VEVENT
DTSTART:20210903T160000Z
DTEND:20210903T163000Z
X-MICROSOFT-CDO-ALLDAYEVENT:FALSE
SUMMARY:Ribbon Cutting Ceremony: Rustic Red's Boutique
DESCRIPTION:Rustic Red's Boutique is a retail store specializing in women's and children's clothing and shoes. Join us for their Official Ribbon Cutting Ceremony.
X-ALT-DESC;FMTTYPE=text/html:Rustic Red&#39\;s Boutique is a retail store specializing in&nbsp\;<span style="color: rgb(5\, 5\, 5)\; font-family: &quot\;Segoe UI Historic&quot\;\, &quot\;Segoe UI&quot\;\, Helvetica\, Arial\, sans-serif\; font-size: 15px\;">women&rsquo\;s and children&#39\;s clothing and shoes. Join us for their Official Ribbon Cutting Ceremony.&nbsp\;</span>
LOCATION:164 North Main Street\, Fredericktown Ohio
UID:e.2893.5016
SEQUENCE:3
DTSTAMP:20260419T162553Z
URL:http://knoxchamber.smartcms.site/events/details/ribbon-cutting-ceremony-rustic-red-s-boutique-5016
END:VEVENT

END:VCALENDAR
