BEGIN:VCALENDAR
VERSION:2.0
PRODID:-//ChamberMaster//Event Calendar 2.0//EN
METHOD:PUBLISH
X-PUBLISHED-TTL:P3D
REFRESH-INTERVAL:P3D
CALSCALE:GREGORIAN
BEGIN:VEVENT
DTSTART:20190427T160000Z
DTEND:20190427T180000Z
X-MICROSOFT-CDO-ALLDAYEVENT:FALSE
SUMMARY:Ribbon Cutting Ceremony Knox Motor Group
DESCRIPTION:Join Knox Motor Group as they make the move to their new location official! Knox Motor Group established itself in Mount Vernon only 8 months ago\, but in that time they have made such an impact that they are now moving to a larger facility on Harcourt Road.
X-ALT-DESC;FMTTYPE=text/html:Join Knox Motor Group as they make the move to their new location official! Knox Motor Group established itself in Mount Vernon only 8 months ago\, but in that time they have made such an impact that they are now moving to a larger facility on Harcourt Road.&nbsp\;
LOCATION:602 Harcourt Road\, Mount Vernon
UID:e.2893.4266
SEQUENCE:3
DTSTAMP:20260421T164814Z
URL:http://knoxchamber.smartcms.site/events/details/ribbon-cutting-ceremony-knox-motor-group-4266
END:VEVENT

END:VCALENDAR
