BEGIN:VCALENDAR
VERSION:2.0
PRODID:-//ChamberMaster//Event Calendar 2.0//EN
METHOD:PUBLISH
X-PUBLISHED-TTL:P3D
REFRESH-INTERVAL:P3D
CALSCALE:GREGORIAN
BEGIN:VEVENT
DTSTART:20210819T150000Z
DTEND:20210819T160000Z
X-MICROSOFT-CDO-ALLDAYEVENT:FALSE
SUMMARY:Ribbon Cutting Ceremony: Knox County Board of Elections
DESCRIPTION:The Board of Elections is celebrating the move into their new facility.  Join Chamber staff and ambassadors as they help commemorate the move with an Official Ribbon Cutting Ceremony!
X-ALT-DESC;FMTTYPE=text/html:The Board of Elections is celebrating the move into their new facility.&nbsp\; Join Chamber staff and ambassadors as they help commemorate the move with an Official Ribbon Cutting Ceremony!
LOCATION:
UID:e.2893.4926
SEQUENCE:3
DTSTAMP:20260419T162644Z
URL:http://knoxchamber.smartcms.site/events/details/ribbon-cutting-ceremony-knox-county-board-of-elections-4926
END:VEVENT

END:VCALENDAR
