BEGIN:VCALENDAR
VERSION:2.0
PRODID:-//ChamberMaster//Event Calendar 2.0//EN
METHOD:PUBLISH
X-PUBLISHED-TTL:P3D
REFRESH-INTERVAL:P3D
CALSCALE:GREGORIAN
BEGIN:VEVENT
DTSTART:20210914T203000Z
DTEND:20210914T210000Z
X-MICROSOFT-CDO-ALLDAYEVENT:FALSE
SUMMARY:Ribbon Cutting Ceremony: Hot Yoga Escape & Wellness Center
DESCRIPTION:Owner and operator\, Terri Lewis invites the community for their Official Ribbon Cutting Ceremony after their renovation!  Join the Chamber of Commerce as we help celebrate this special moment!
X-ALT-DESC;FMTTYPE=text/html:Owner and operator\, Terri Lewis invites the community for their Official Ribbon Cutting Ceremony after their renovation!&nbsp\; Join the Chamber of Commerce as we help celebrate this special moment!
LOCATION:812 Coshocton Avenue\, Bldg 2\, Unit 1 Mount Vernon
UID:e.2893.5003
SEQUENCE:3
DTSTAMP:20260419T144853Z
URL:http://knoxchamber.smartcms.site/events/details/ribbon-cutting-ceremony-hot-yoga-escape-wellness-center-5003
END:VEVENT

END:VCALENDAR
