BEGIN:VCALENDAR
VERSION:2.0
PRODID:-//ChamberMaster//Event Calendar 2.0//EN
METHOD:PUBLISH
X-PUBLISHED-TTL:P3D
REFRESH-INTERVAL:P3D
CALSCALE:GREGORIAN
BEGIN:VEVENT
DTSTART:20210810T150000Z
DTEND:20210810T160000Z
X-MICROSOFT-CDO-ALLDAYEVENT:FALSE
SUMMARY:Ribbon Cutting Ceremony: Georgetown Inspired BBQ and Cindy's Pierogis
DESCRIPTION:Chef Nav introduces two new concepts to Downtown Mount Vernon with the unveiling of Cindy's Pierogis and Georgetown Inspired BBQ! Join Chef\, Rebecca\, and the whole Ajodhya Dining Services staff for their Official Ribbon Cutting Ceremony!
X-ALT-DESC;FMTTYPE=text/html:Chef Nav introduces two new concepts to Downtown Mount Vernon with the unveiling of Cindy&#39\;s Pierogis and Georgetown Inspired BBQ! Join Chef\, Rebecca\, and the whole Ajodhya Dining Services staff for their Official Ribbon Cutting Ceremony!
LOCATION:1 West High Street\, Mount Vernon
UID:e.2893.4982
SEQUENCE:3
DTSTAMP:20260419T175223Z
URL:http://knoxchamber.smartcms.site/events/details/ribbon-cutting-ceremony-georgetown-inspired-bbq-and-cindy-s-pierogis-4982
END:VEVENT

END:VCALENDAR
