BEGIN:VCALENDAR
VERSION:2.0
PRODID:-//ChamberMaster//Event Calendar 2.0//EN
METHOD:PUBLISH
X-PUBLISHED-TTL:P3D
REFRESH-INTERVAL:P3D
CALSCALE:GREGORIAN
BEGIN:VEVENT
DTSTART:20181022T160000Z
DTEND:20181022T170000Z
X-MICROSOFT-CDO-ALLDAYEVENT:FALSE
SUMMARY:Ribbon Cutting Brickhouse Grind
DESCRIPTION:Join us for a Ribbon Cutting ceremony at the Brickhouse Grind!  Welcome this new coffee shop\, gift and art studio to Fredericktown on Monday\, October 22 from noon to 1pm.
X-ALT-DESC;FMTTYPE=text/html:Join us for a<span style="color:#A52A2A\;"><em> Ribbon Cutting</em></span> ceremony at the Brickhouse Grind!&nbsp\; Welcome this new coffee shop\, gift and art studio to Fredericktown on Monday\, October 22 from noon to 1pm.&nbsp\;
LOCATION:10 South Main Street Fredricktown
UID:e.2893.3801
SEQUENCE:3
DTSTAMP:20260422T024113Z
URL:http://knoxchamber.smartcms.site/events/details/ribbon-cutting-brickhouse-grind-3801
END:VEVENT

END:VCALENDAR
