BEGIN:VCALENDAR
VERSION:2.0
PRODID:-//ChamberMaster//Event Calendar 2.0//EN
METHOD:PUBLISH
X-PUBLISHED-TTL:P3D
REFRESH-INTERVAL:P3D
CALSCALE:GREGORIAN
BEGIN:VEVENT
DTSTART:20201003T230000Z
DTEND:20201004T020000Z
X-MICROSOFT-CDO-ALLDAYEVENT:FALSE
SUMMARY:Rhonda Vincent and the Rage
DESCRIPTION:Saturday\, October 3\, 2020  | 7:00 pm | The Woodward Opera House | Tickets sold by theater section.\n\n\n\nClick here for tickets.\n\n\n\nClick here to sponsor. \n\nRhonda Vincent and the Rage is the most celebrated band in bluegrass with over 100 awards to their credit. Among their honors are the Song of the Year\, Entertainer of the Year\, and an unrivaled seven consecutive Female Vocalist of the Year awards from the International Bluegrass Music Association (IBMA).\n\nCrowned the Queen of Bluegrass by the Wall Street Journal\, Vincent is one of the genre's best-selling and most visible artists\, whose cross-over appeal stretches well into mainstream music.\n\nhttps://www.youtube.com/watch?v=krZMuOy1Q_E\n\nhttps://www.youtube.com/watch?v=k3nHdZD7ZNs
X-ALT-DESC;FMTTYPE=text/html:<p background-color:="" font-size:="" letter-spacing:="" libre="" style="overflow-wrap: break-word\; font-family: " white-space:=""><strong style="overflow-wrap: break-word\;">Saturday\, October 3\, 2020&nbsp\; | 7:00 pm | The Woodward Opera House | Tickets sold by theater section.<br />\n<br />\n<a href="https://www.thewoodward.org/index.php/events/">Click here for tickets.</a><br />\n<br />\n<a href="https://interland3.donorperfect.net/weblink/weblink.aspx?id=39&amp\;name=E347241">Click here to sponsor. </a></strong></p>\n\n<p background-color:="" font-size:="" letter-spacing:="" libre="" style="overflow-wrap: break-word\; font-family: " white-space:=""><strong style="overflow-wrap: break-word\;">Rhonda Vincent and the Rage is the most celebrated band in bluegrass</strong> with over 100 awards to their credit. Among their honors are the Song of the Year\, Entertainer of the Year\, and an unrivaled seven consecutive Female Vocalist of the Year awards from the International Bluegrass Music Association (IBMA).</p>\n\n<p background-color:="" font-size:="" letter-spacing:="" libre="" style="overflow-wrap: break-word\; font-family: " white-space:="">Crowned the <strong style="overflow-wrap: break-word\;">Queen of Bluegrass</strong> by the <em style="overflow-wrap: break-word\;">Wall Street Journal</em>\, Vincent is one of the genre&rsquo\;s best-selling and most visible artists\, whose cross-over appeal stretches well into mainstream music.</p>\n\n<p background-color:="" font-size:="" letter-spacing:="" libre="" style="overflow-wrap: break-word\; font-family: " white-space:=""><a href="https://www.youtube.com/watch?v=krZMuOy1Q_E" style="background-color: transparent\; color: rgb(2\, 90\, 95)\; text-decoration-line: none\; padding-bottom: 0.05em\; border-bottom: 1px solid rgba(2\, 90\, 95\, 0.3)\; transition: border-color 0.15s ease-out 0s\, color 0.15s ease-out 0s\; overflow-wrap: break-word\;">https://www.youtube.com/watch?v=krZMuOy1Q_E</a></p>\n\n<p background-color:="" font-size:="" letter-spacing:="" libre="" style="margin-bottom: 0px\; overflow-wrap: break-word\; font-family: " white-space:=""><a href="https://www.youtube.com/watch?v=k3nHdZD7ZNs" style="background-color: transparent\; color: rgb(2\, 90\, 95)\; text-decoration-line: none\; padding-bottom: 0.05em\; border-bottom: 1px solid rgba(2\, 90\, 95\, 0.3)\; transition: border-color 0.15s ease-out 0s\, color 0.15s ease-out 0s\; overflow-wrap: break-word\;">https://www.youtube.com/watch?v=k3nHdZD7ZNs</a></p>\n
LOCATION:The Woodward Opera House
UID:e.2893.4706
SEQUENCE:3
DTSTAMP:20260420T093211Z
URL:http://knoxchamber.smartcms.site/events/details/rhonda-vincent-and-the-rage-4706
END:VEVENT

END:VCALENDAR
