BEGIN:VCALENDAR
VERSION:2.0
PRODID:-//ChamberMaster//Event Calendar 2.0//EN
METHOD:PUBLISH
X-PUBLISHED-TTL:P3D
REFRESH-INTERVAL:P3D
CALSCALE:GREGORIAN
BEGIN:VEVENT
DTSTART:20190303T233000Z
DTEND:20190304T013000Z
X-MICROSOFT-CDO-ALLDAYEVENT:FALSE
SUMMARY:reviveOHIO :: Come & See #2
DESCRIPTION:Learn more about reviveOHIO :: Knox County! This community event will take place from March 15-21! Join us as we unite together to love our community and share the Good News of Jesus Christ! You don't want to miss this! Call Amy at 740-358-0964 for more information.
X-ALT-DESC;FMTTYPE=text/html:Learn more about reviveOHIO :: Knox County! This community event will take place from March 15-21! Join us as we unite together to love our community and share the Good News of Jesus Christ! You don&rsquo\;t want to miss this! Call Amy at 740-358-0964 for more information.
LOCATION:Covenant Church 13360 New Delaware Rd Mount Vernon\, OH 43050
UID:e.2893.4251
SEQUENCE:3
DTSTAMP:20260421T182226Z
URL:http://knoxchamber.smartcms.site/events/details/reviveohio-come-see-2-4251
END:VEVENT

END:VCALENDAR
